BEGIN:VCALENDAR
VERSION:2.0
PRODID:-//ChamberMaster//Event Calendar 2.0//EN
METHOD:PUBLISH
X-PUBLISHED-TTL:P3D
REFRESH-INTERVAL:P3D
CALSCALE:GREGORIAN
BEGIN:VEVENT
DTSTART:20170608T150000Z
DTEND:20170608T183000Z
X-MICROSOFT-CDO-ALLDAYEVENT:FALSE
SUMMARY:Summer Tour: Thomson Hydro Plant\, Jay Cooke State Park - Minnesota Power
DESCRIPTION:
X-ALT-DESC;FMTTYPE=text/html:
LOCATION:Meet at Scanlon Park and Ride Exit 239 off of I-35 E\, North Cloquet
UID:e.9203.1345
SEQUENCE:3
DTSTAMP:20260424T142022Z
URL:http://mnutilityinvestors.memberzone.com/events/details/summer-tour-thomson-hydro-plant-jay-cooke-state-park-minnesota-power-1345
END:VEVENT

END:VCALENDAR
