BEGIN:VCALENDAR
VERSION:2.0
PRODID:-//ChamberMaster//Event Calendar 2.0//EN
METHOD:PUBLISH
X-PUBLISHED-TTL:P3D
REFRESH-INTERVAL:P3D
CALSCALE:GREGORIAN
BEGIN:VEVENT
DTSTART:20190801T153000Z
DTEND:20190801T193000Z
X-MICROSOFT-CDO-ALLDAYEVENT:FALSE
SUMMARY:Summer Tour: Monticello Nuclear Power Plant - Xcel Energy 8-1-19
DESCRIPTION:IMPORTANT CRITERIA FOR TOUR ADMITTANCE:\n\n\n	By Tuesday\, July 16th attendees must provide to MUI their Full Legal Name as it is recorded on their Driver's License. AND your DOB (Date of Birth) It will be given to Xcel Energy for security clearance.\n	By Tuesday\, July 16th  Attendees must tell MUI if you are a U.S. citizen or foreign national   and if a foreign national\, which country. This information will be given to Xcel Energy for security clearance- IF so\, let us know immediately - Failure to do so could prevent you from taking this tour.\n	MUI Tour Attendees must have a Government Issued picture ID with them the day of the event to take the tour and to prove their identity and it must match the full name and DOB you give us prior.(drivers' license\, passport\, etc.).\n	Attendees must know their Social Security number for security reasons.\n	Attendees must indicate if you've had medical tests involving Radioactive Isotopes within the past three weeks prior to the tour.  For example\, nuclear stress tests or anything that requires introduction of a radioactive dye or tracer.  Radiation monitors detect even small amounts of radioactive isotopes in the body\, so special arrangements can be made for you to be able to enter the station.  X-rays do not count because no radiation products are deposited in the body.\n	Attendees must indicate in advance if you have Large Metal Implants (such as hip joints).\n\n\n \nClothing\n\nAttendees must wear sturdy\, comfortable\, shoes that entirely envelop the foot.  Open-toe shoes\, sandals\, etc. in the industrial environment are NOT ACCEPTABLE.\n\n\n\nWear cotton clothing.  Avoid polyester\, nylon or other synthetic fabrics which can develop a charge that attracts radon particles.  Jeans are acceptable.\n\n\n\nTour attendees are required to wear appropriate Personal Protective Equipment (PPE)\, which will be supplied prior to conducting the tour.  PPE includes hard hats\, eye protection and hearing protection.\n\n\n\nProhibited Items\n\nProhibited items such as firearms\, explosives\, and incendiary devices SHALL NOT be brought through the Intermediate Barrier Vehicle checkpoint\, or into the Protected Area.\n\n\n	Firearms   Includes the major components of a firearm\, including the barrel\, cylinder\, slide\, and/or magazine.\n	Ammunition \n	Explosive Devices\n	Incendiary Devices   Including personal use gas cans.  \n	Illegal or Unauthorized Controlled Substances   Including but not limited to narcotics\, depressants\, amphetamines\, hallucinogens\, and marijuana.  Unauthorized means without proper prescription specifically for a given individual.\n	Alcohol\n	Weapons   including\, knives with a blade of greater than four inches.\n	Cameras/Video Recorders   Visitors that have not been granted un-escorted access require photographic equipment used at the site to be approved via the fleet Camera Control Procedure.  (Note:  Cell phones\, PDAs and any personal electronic devices with photographic capabilities are defined as cameras\, and shall be controlled as such.)
X-ALT-DESC;FMTTYPE=text/html:<br />\n<strong><u><span style="font-family:calibri\,sans-serif\;"><span style="font-size:14.0pt\;">IMPORTANT CRITERIA FOR TOUR ADMITTANCE:</span></span></u></strong>\n\n<ul>\n	<li style="margin-top:6.0pt\;margin-right:0in\;margin-bottom:0in\;margin-bottom:.0001pt\;"><strong><span style="font-family:calibri\,sans-serif\;">By <u>Tuesday\, July 16<sup>th</sup></u></span></strong><span style="font-family:calibri\,sans-serif\;"> attendees must provide to MUI their <strong><u>Full Legal Name as it is recorded on their Driver&rsquo\;s License</u></strong>. AND <u><strong>your DOB (Date of Birth)</strong></u>&nbsp\;It will be given to Xcel Energy for security clearance.</span></li>\n	<li style="margin-top:6.0pt\;margin-right:0in\;margin-bottom:0in\;margin-bottom:.0001pt\;"><span style="font-family:calibri\,sans-serif\;"><strong><span style="font-family:calibri\,sans-serif\;">By <u>Tuesday\, July 16<sup>th</sup></u></span></strong><span style="font-family:calibri\,sans-serif\;">&nbsp\; Attendees must </span><span style="font-family:calibri\,sans-serif\;">tell MUI if you are a<u><strong> U.S. citizen or foreign national</strong></u> &ndash\; and <strong>if a foreign national\, which country. </strong></span><strong><span style="font-family:calibri\,sans-serif\;">This information will be given to Xcel Energy for security clearance- IF so\, let us know immediately - Failure to do so could prevent you from taking this tour.</span></strong></span></li>\n	<li style="margin-top:6.0pt\;margin-right:0in\;margin-bottom:0in\;margin-bottom:.0001pt\;"><span style="font-family:calibri\,sans-serif\;">MUI Tour Attendees must have a <strong><u>Government Issued picture ID</u></strong> with them the day of the event to take the tour and to prove their identity and it must match the full name and DOB you give us prior.(drivers&rsquo\; license\, passport\, etc.).</span></li>\n	<li style="margin-top:6.0pt\;margin-right:0in\;margin-bottom:0in\;margin-bottom:.0001pt\;"><span style="font-family:calibri\,sans-serif\;">Attendees must know their </span><u><span style="font-family:calibri\,sans-serif\;"><strong>Social Security number</strong></span></u><span style="font-family:calibri\,sans-serif\;"> for security reasons.</span></li>\n	<li style="margin-top: 6pt\; margin-right: 0in\; margin-bottom: 0.0001pt\;"><span style="font-family:calibri\,sans-serif\;">Attendees must indicate if you&rsquo\;ve had medical tests involving <u><strong>Radioactive Isotope</strong></u><strong>s</strong> within the past three weeks prior to the tour.&nbsp\; For example\, nuclear stress tests or anything that requires introduction of a radioactive dye or tracer.&nbsp\; Radiation monitors detect even small amounts of radioactive isotopes in the body\, so special arrangements can be made for you to be able to enter the station.&nbsp\; X-rays do not count because no radiation products are deposited in the body.</span></li>\n	<li style="margin-top: 6pt\; margin-right: 0in\; margin-bottom: 0.0001pt\;"><span style="font-family:calibri\,sans-serif\;">Attendees must indicate in advance if you have <u><strong>Large Metal Implants</strong></u> (such as hip joints).</span></li>\n</ul>\n\n<div style="margin-top:6.0pt\;margin-right:0in\;margin-bottom:0in\;margin-bottom:.0001pt\;">&nbsp\;</div>\n<strong><u><span style="font-family:calibri\,sans-serif\;"><span style="font-size:14.0pt\;">Clothing</span></span></u></strong><br />\n<span style="font-family:calibri\,sans-serif\;">Attendees must wear sturdy\, comfortable\, shoes that entirely envelop the foot.&nbsp\; <strong>Open-toe shoes\, sandals\, etc. in the industrial environment are NOT ACCEPTABLE.</strong></span><br />\n<br />\n<span style="font-family:calibri\,sans-serif\;">Wear cotton clothing.&nbsp\; Avoid polyester\, nylon or other synthetic fabrics which can develop a charge that attracts radon particles.&nbsp\; Jeans are acceptable.</span><br />\n<br />\n<span style="font-family:calibri\,sans-serif\;">Tour attendees are required to wear appropriate Personal Protective Equipment (PPE)\, which will be supplied prior to conducting the tour. &nbsp\;PPE includes hard hats\, eye protection and hearing protection.</span><br />\n<br />\n<strong><u><span style="font-family:calibri\,sans-serif\;"><span style="font-size:14.0pt\;">Prohibited Items</span></span></u></strong><br />\n<span style="font-family:calibri\,sans-serif\;">Prohibited items such as firearms\, explosives\, and incendiary devices SHALL NOT be brought through the Intermediate Barrier Vehicle checkpoint\, or into the Protected Area.</span>\n\n<ol>\n	<li style="margin-top:6.0pt\;margin-right:0in\;margin-bottom:0in\;margin-bottom:.0001pt\;"><span style="font-family:calibri\,sans-serif\;">Firearms &ndash\; Includes the major components of a firearm\, including the barrel\, cylinder\, slide\, and/or magazine.</span></li>\n	<li style="margin-top:6.0pt\;margin-right:0in\;margin-bottom:0in\;margin-bottom:.0001pt\;"><span style="font-family:calibri\,sans-serif\;">Ammunition </span></li>\n	<li style="margin-top:6.0pt\;margin-right:0in\;margin-bottom:0in\;margin-bottom:.0001pt\;"><span style="font-family:calibri\,sans-serif\;">Explosive Devices</span></li>\n	<li style="margin-top:6.0pt\;margin-right:0in\;margin-bottom:0in\;margin-bottom:.0001pt\;"><span style="font-family:calibri\,sans-serif\;">Incendiary Devices &ndash\; Including personal use gas cans.&nbsp\; </span></li>\n	<li style="margin-top:6.0pt\;margin-right:0in\;margin-bottom:0in\;margin-bottom:.0001pt\;"><span style="font-family:calibri\,sans-serif\;">Illegal or Unauthorized Controlled Substances &ndash\; Including but not limited to narcotics\, depressants\, amphetamines\, hallucinogens\, and marijuana.&nbsp\; Unauthorized means without proper prescription specifically for a given individual.</span></li>\n	<li style="margin-top:6.0pt\;margin-right:0in\;margin-bottom:0in\;margin-bottom:.0001pt\;"><span style="font-family:calibri\,sans-serif\;">Alcohol</span></li>\n	<li style="margin-top:6.0pt\;margin-right:0in\;margin-bottom:0in\;margin-bottom:.0001pt\;"><span style="font-family:calibri\,sans-serif\;">Weapons &ndash\; including\, knives with a blade of greater than four inches.</span></li>\n	<li style="margin-top:6.0pt\;margin-right:0in\;margin-bottom:0in\;margin-bottom:.0001pt\;"><span style="font-family:calibri\,sans-serif\;">Cameras/Video Recorders &ndash\; Visitors that <u><strong>have not been granted </strong></u>un-escorted access require photographic equipment used at the site to be approved via the fleet Camera Control Procedure.&nbsp\; (Note:&nbsp\; Cell phones\, PDAs and any personal electronic devices with photographic capabilities are defined as cameras\, and shall be controlled as such.) </span></li>\n</ol>\n
LOCATION:Meet at Training Center 2100 West River Street Monticello\, MN
UID:e.9203.1457
SEQUENCE:3
DTSTAMP:20260421T225541Z
URL:http://mnutilityinvestors.memberzone.com/events/details/summer-tour-monticello-nuclear-power-plant-xcel-energy-8-1-19-1457
END:VEVENT

END:VCALENDAR
