BEGIN:VCALENDAR
VERSION:2.0
PRODID:-//ChamberMaster//Event Calendar 2.0//EN
METHOD:PUBLISH
X-PUBLISHED-TTL:P3D
REFRESH-INTERVAL:P3D
CALSCALE:GREGORIAN
BEGIN:VEVENT
DTSTART:20170622T160000Z
DTEND:20170622T193000Z
X-MICROSOFT-CDO-ALLDAYEVENT:FALSE
SUMMARY:Summer Tour: Hennepin Island Hydro Generation Station - Xcel Plant Tour 6/22/17
DESCRIPTION:Supporting Member Summer Tour\n\n Hennepin Island Hydro Generation Station\n\nLimit:  20 Participants (2 groups of 10)
X-ALT-DESC;FMTTYPE=text/html:<div style="text-align: center\;"><span style="font-size:16px\;">Supporting Member Summer Tour<br />\n&nbsp\;Hennepin Island Hydro Generation Station<br />\nLimit: &nbsp\;20 Participants (2 groups of 10)</span></div>\n
LOCATION:Jax Restaurant Hennepin Island Hydro Station/St. Anthony Falls Power Plant
UID:e.9203.1342
SEQUENCE:3
DTSTAMP:20260424T142051Z
URL:http://mnutilityinvestors.memberzone.com/events/details/summer-tour-hennepin-island-hydro-generation-station-xcel-plant-tour-6-22-17-1342
END:VEVENT

END:VCALENDAR
