BEGIN:VCALENDAR
VERSION:2.0
PRODID:-//ChamberMaster//Event Calendar 2.0//EN
METHOD:PUBLISH
X-PUBLISHED-TTL:P3D
REFRESH-INTERVAL:P3D
CALSCALE:GREGORIAN
BEGIN:VEVENT
DTSTART:20200626T160000Z
DTEND:20200626T180000Z
X-MICROSOFT-CDO-ALLDAYEVENT:FALSE
SUMMARY:Summer Tour: Camp Ripley Solar Farm\, Little Falls - Minnesota Power
DESCRIPTION:SITE DESCRIPTION:\n\nApproved by the Public Utility Commission in 2016 and completed in November that same year\, Camp Ripley's collaborative project between Minnesota Power and the Minnesota National Guard is the largest solar energy installation at any National Guard Base in the United States.  Covering 80 acres of under-utilized government property\, the project provides Minnesota Power with about one third of the state's mandated solar requirement.\n\n \n\nTOUR CONDITIONS (please note):\n\nTour will be conducted outside and is subject to weather conditions. Please dress appropriately for the weather. Standing without shelter for periods of time will occur. CLOSED-TOED SHOES ARE REQUIRED.  Ground is uneven and subject to weather. \n\n \n\nIMPORTANT: \n\nAll Participants must bring a Government Issued ID with them the day of the event.  This includes:  Driver's License or Passport-official ID must include a photograph for reference.
X-ALT-DESC;FMTTYPE=text/html:<br />\n<strong><u><span style="color:black\;"><span style="font-family:calibri\,sans-serif\;">SITE DESCRIPTION</span></span></u></strong><strong><span style="color:black\;"><span style="font-family:calibri\,sans-serif\;">:</span></span></strong><br />\n<span style="color:black\;"><span style="font-family:calibri\,sans-serif\;"><span style="font-size:12.0pt\;">Approved by the Public Utility Commission in 2016 and completed in November that same year\, Camp Ripley&#39\;s collaborative project between Minnesota Power and the Minnesota National Guard is the largest solar energy installation at any National Guard Base in the United States.&nbsp\; Covering 80 acres of under-utilized government property\, the project provides Minnesota Power with about one third of the state&#39\;s mandated solar requirement.</span></span></span><br />\n&nbsp\;<br />\n<strong><u><span style="font-family:calibri\,sans-serif\;">TOUR CONDITIONS (please note):</span></u></strong><br />\n<span style="font-family:calibri\,sans-serif\;"><span style="font-size:12.0pt\;">Tour will be conducted outside and is subject to weather conditions. Please dress appropriately for the weather. Standing without shelter for periods of time will occur<strong>. CLOSED-TOED SHOES ARE REQUIRED</strong>.&nbsp\; Ground is uneven and subject to weather. </span></span><br />\n&nbsp\;<br />\n<span style="color:#FF0000\;"><strong><u><span style="font-family: calibri\, sans-serif\;">IMPORTANT:</span></u></strong>&nbsp\;</span><br />\n<span style="font-family:calibri\,sans-serif\;"><span style="font-size:12.0pt\;">All Participants <span style="color:#FF0000\;"><strong><u>must bring a Government Issued ID with them the day of the event</u></strong>.</span>&nbsp\; This includes:&nbsp\; Driver&#39\;s License or Passport-official ID must include a photograph for reference.</span></span><br />\n&nbsp\;
LOCATION:Camp Ripley Solar Farm Near Little Falls\, MN
UID:e.9203.1511
SEQUENCE:3
DTSTAMP:20260420T224500Z
URL:http://mnutilityinvestors.memberzone.com/events/details/summer-tour-camp-ripley-solar-farm-little-falls-minnesota-power-1511
END:VEVENT

END:VCALENDAR
