BEGIN:VCALENDAR
VERSION:2.0
PRODID:-//ChamberMaster//Event Calendar 2.0//EN
METHOD:PUBLISH
X-PUBLISHED-TTL:P3D
REFRESH-INTERVAL:P3D
CALSCALE:GREGORIAN
BEGIN:VEVENT
DTSTART;VALUE=DATE:20170410
DTEND;VALUE=DATE:20170411
TRANSP:TRANSPARENT
X-MICROSOFT-CDO-ALLDAYEVENT:TRUE
SUMMARY:Otter Tail Annual Meeting 4/10/2017
DESCRIPTION:
X-ALT-DESC;FMTTYPE=text/html:
LOCATION:
UID:e.9203.1343
SEQUENCE:3
DTSTAMP:20260424T172348Z
URL:http://mnutilityinvestors.memberzone.com/events/details/otter-tail-annual-meeting-4-10-2017-1343
END:VEVENT

END:VCALENDAR
