BEGIN:VCALENDAR
VERSION:2.0
PRODID:-//ChamberMaster//Event Calendar 2.0//EN
METHOD:PUBLISH
X-PUBLISHED-TTL:P3D
REFRESH-INTERVAL:P3D
CALSCALE:GREGORIAN
BEGIN:VEVENT
DTSTART:20200909T160000Z
DTEND:20200909T170000Z
X-MICROSOFT-CDO-ALLDAYEVENT:FALSE
SUMMARY:Online Meeting: Update about Xcel Energy's Integrated Resource Plan 9/9/20
DESCRIPTION:
X-ALT-DESC;FMTTYPE=text/html:
LOCATION:
UID:e.9203.1513
SEQUENCE:3
DTSTAMP:20260420T152606Z
URL:http://mnutilityinvestors.memberzone.com/events/details/online-meeting-update-about-xcel-energy-s-integrated-resource-plan-9-9-20-1513
END:VEVENT

END:VCALENDAR
