BEGIN:VCALENDAR
VERSION:2.0
PRODID:-//ChamberMaster//Event Calendar 2.0//EN
METHOD:PUBLISH
X-PUBLISHED-TTL:P3D
REFRESH-INTERVAL:P3D
CALSCALE:GREGORIAN
BEGIN:VEVENT
DTSTART:20200528T160000Z
DTEND:20200528T163000Z
X-MICROSOFT-CDO-ALLDAYEVENT:FALSE
SUMMARY:Online Meeting: Legislative Recap 5/28/20
DESCRIPTION:
X-ALT-DESC;FMTTYPE=text/html:
LOCATION:
UID:e.9203.1505
SEQUENCE:3
DTSTAMP:20260421T020916Z
URL:http://mnutilityinvestors.memberzone.com/events/details/online-meeting-legislative-recap-5-28-20-1505
END:VEVENT

END:VCALENDAR
