BEGIN:VCALENDAR
VERSION:2.0
PRODID:-//ChamberMaster//Event Calendar 2.0//EN
METHOD:PUBLISH
X-PUBLISHED-TTL:P3D
REFRESH-INTERVAL:P3D
CALSCALE:GREGORIAN
BEGIN:VEVENT
DTSTART:20180823T133000Z
DTEND:20180823T163000Z
X-MICROSOFT-CDO-ALLDAYEVENT:FALSE
SUMMARY:MUI/WUI Joint Regional Meeting - Stillwater\, MN 8/23/18
DESCRIPTION:MUI - WUI\n\nJoint Regional Meeting\n\nThursday\, August 23\, 2018\n\nLowell Inn Banquet Center\n\nStillwater\,MN\n\n\nSchedule\n\n8:30 a.m.    Registration & Industry Exhibitors\n\n9:15 a.m.    Welcome & Breakfast\n\n9:45 a.m.    Todd Rapp\, Political Analyst\, Rapp Strategies\n\n10:30 a.m.   BINGO\n\n10:45 a.m. Seth Levy\, Edison Electric Institute\n\n11:15 a.m.  Door Prizes and Closing Remarks\n\n11:30 a.m.    Adjourn\n\n\n\nClick Here to register online
X-ALT-DESC;FMTTYPE=text/html:<div style="text-align: center\;"><strong><span style="font-size:16px\;">MUI - WUI<br />\nJoint Regional Meeting<br />\nThursday\, August 23\, 2018<br />\nLowell Inn Banquet Center<br />\nStillwater\,MN</span></strong></div>\n<br />\n<u><strong>Schedule</strong></u><br />\n8:30 a.m.&nbsp\; &nbsp\; Registration &amp\; Industry Exhibitors<br />\n9:15 a.m.&nbsp\; &nbsp\; Welcome &amp\; Breakfast<br />\n9:45 a.m.&nbsp\; &nbsp\; Todd Rapp\, Political Analyst\, Rapp Strategies<br />\n10:30 a.m.&nbsp\; &nbsp\;BINGO<br />\n10:45 a.m. Seth Levy\, Edison Electric Institute<br />\n11:15 a.m.&nbsp\; Door Prizes and Closing Remarks<br />\n11:30 a.m.&nbsp\; &nbsp\; Adjourn<br />\n<br />\n<a href="http://events.constantcontact.com/register/event?llr=5q4kowcab&amp\;oeidk=a07ef69tutv2c9e7ea2">Click Here to register online</a><br />\n<br />\n<br />\n<br />\n<br />\n&nbsp\;
LOCATION:Lowell Inn Banquet Center 102 North 2nd Street Stillwater\, MN 55082
UID:e.9203.1440
SEQUENCE:3
DTSTAMP:20260423T110306Z
URL:http://mnutilityinvestors.memberzone.com/events/details/mui-wui-joint-regional-meeting-stillwater-mn-8-23-18-1440
END:VEVENT

END:VCALENDAR
