BEGIN:VCALENDAR
VERSION:2.0
PRODID:-//ChamberMaster//Event Calendar 2.0//EN
METHOD:PUBLISH
X-PUBLISHED-TTL:P3D
REFRESH-INTERVAL:P3D
CALSCALE:GREGORIAN
BEGIN:VEVENT
DTSTART;VALUE=DATE:20210610
DTEND;VALUE=DATE:20210611
TRANSP:TRANSPARENT
X-MICROSOFT-CDO-ALLDAYEVENT:TRUE
SUMMARY:Blue Flame Golf Event 6/10/21
DESCRIPTION:Blue Flame Golf Event
X-ALT-DESC;FMTTYPE=text/html:Blue Flame Golf Event
LOCATION:Cannon Falls Golf Club 8606-295th St. E. Cannon Falls\, MN 55009
UID:e.9203.1526
SEQUENCE:3
DTSTAMP:20260420T031746Z
URL:http://mnutilityinvestors.memberzone.com/events/details/blue-flame-golf-event-6-10-21-1526
END:VEVENT

END:VCALENDAR
