BEGIN:VCALENDAR
VERSION:2.0
PRODID:-//ChamberMaster//Event Calendar 2.0//EN
METHOD:PUBLISH
X-PUBLISHED-TTL:P3D
REFRESH-INTERVAL:P3D
CALSCALE:GREGORIAN
BEGIN:VEVENT
DTSTART:20160923T140000Z
DTEND:20160923T153000Z
X-MICROSOFT-CDO-ALLDAYEVENT:FALSE
SUMMARY:Bemidji Local Member Meeting - Breakfast 9/23/16
DESCRIPTION:Join us for our Fall Local Member Meeting\n\n\n\nNew Location! Double Tree by Hilton - Bemidji\n\n115 Lakeshore Drive\, Bemidji\n\nCatered Breakfast & Program\n\nFeatured Speakers:\n\nUpdate from Xcel Energy about their energy initives\n\nAnnette Henkel\, Legislative and Energy Issues\n\nAll local legislative candidates have been invited!\n\n\n\nFree for Supporting Members and their guests\n\n(those who pay dues)\n\nGeneral Members $5 per person\n\nOr\, join onsite for $20 per household\n\n\n\nReservations Required.\n\n\n\nCall 1-888-850-5171 to reserve your spot
X-ALT-DESC;FMTTYPE=text/html:<div style="text-align: center\;"><span style="font-size:22px\;">Join us for our Fall Local Member Meeting<br />\n<br />\n<span style="font-size:18px\;"><span style="color:#800000\;">New Location!</span> Double Tree by Hilton - Bemidji<br />\n115 Lakeshore Drive\, Bemidji<br />\nCatered Breakfast &amp\; Program<br />\n<strong>Featured Speakers:</strong><br />\nUpdate from Xcel Energy about their energy initives<br />\nAnnette Henkel\, Legislative and Energy Issues<br />\nAll local legislative candidates have been invited!<br />\n<br />\n<span style="color:#800000\;">Free for Supporting Members and their guests</span><br />\n(those who pay dues)<br />\n<span style="color:#800000\;">General Members $5 per person</span><br />\nOr\, join onsite for $20 per household</span></span><br />\n<br />\n<span style="font-size:20px\;"><span style="color:#800000\;"><strong>Reservations Required.</strong></span><br />\n<br />\n<strong>Call</strong><span style="color:#800000\;"><strong> 1-888-850-5171 </strong></span><strong>to reserve your spot</strong></span><br />\n&nbsp\;</div>\n
LOCATION:Double Tree by Hilton - Bemidji 115 Lakeshore Drive Bemidji\, 56601
UID:e.9203.1316
SEQUENCE:3
DTSTAMP:20260426T023018Z
URL:http://mnutilityinvestors.memberzone.com/events/details/bemidji-local-member-meeting-breakfast-9-23-16-09-23-2016-1316
END:VEVENT

END:VCALENDAR
